BEGIN:VCALENDAR
VERSION:2.0
PRODID:-//Erlebe Braukunst auf höchster Stufe - Brauwelt - ECPv6.15.20//NONSGML v1.0//EN
CALSCALE:GREGORIAN
METHOD:PUBLISH
X-WR-CALNAME:Erlebe Braukunst auf höchster Stufe - Brauwelt
X-ORIGINAL-URL:https://www.brauwelt.at
X-WR-CALDESC:Veranstaltungen für Erlebe Braukunst auf höchster Stufe - Brauwelt
REFRESH-INTERVAL;VALUE=DURATION:PT1H
X-Robots-Tag:noindex
X-PUBLISHED-TTL:PT1H
BEGIN:VTIMEZONE
TZID:UTC
BEGIN:STANDARD
TZOFFSETFROM:+0000
TZOFFSETTO:+0000
TZNAME:UTC
DTSTART:20250101T000000
END:STANDARD
END:VTIMEZONE
BEGIN:VEVENT
DTSTART;TZID=UTC:20260426T110000
DTEND;TZID=UTC:20260426T170000
DTSTAMP:20260424T054626
CREATED:20241211T144146Z
LAST-MODIFIED:20260202T214242Z
UID:10001426-1777201200-1777222800@www.brauwelt.at
SUMMARY:Sindri Puppentheater
DESCRIPTION:
URL:https://www.brauwelt.at/event/sindri-puppentheater-2-2-2/2026-04-26/
LOCATION:Stiegl Brauwelt\, Bräuhausstraße 9\, Salzburg\, 5020\, Österreich
CATEGORIES:Familien,Veranstaltung
ATTACH;FMTTYPE=image/png:https://www.brauwelt.at/wp-content/uploads/2024/10/sindri-336x207-1.png
GEO:47.7961417;13.0258502
X-APPLE-STRUCTURED-LOCATION;VALUE=URI;X-ADDRESS=Stiegl Brauwelt Bräuhausstraße 9 Salzburg 5020 Österreich;X-APPLE-RADIUS=500;X-TITLE=Bräuhausstraße 9:geo:13.0258502,47.7961417
END:VEVENT
BEGIN:VEVENT
DTSTART;TZID=UTC:20260507T193000
DTEND;TZID=UTC:20260507T223000
DTSTAMP:20260424T054626
CREATED:20251114T144546Z
LAST-MODIFIED:20260301T204519Z
UID:10001460-1778182200-1778193000@www.brauwelt.at
SUMMARY:Tatort in der Stiegl-Brauwelt 2026
DESCRIPTION:
URL:https://www.brauwelt.at/event/tatort-in-der-stiegl-brauwelt-2026/2026-05-07/
LOCATION:Stiegl Brauwelt\, Bräuhausstraße 9\, Salzburg\, 5020\, Österreich
CATEGORIES:Veranstaltung
ATTACH;FMTTYPE=image/jpeg:https://www.brauwelt.at/wp-content/uploads/2022/01/tdc-ehrenreichs-testamentseroffnung-copyr-tdc-1.jpg
GEO:47.7961417;13.0258502
X-APPLE-STRUCTURED-LOCATION;VALUE=URI;X-ADDRESS=Stiegl Brauwelt Bräuhausstraße 9 Salzburg 5020 Österreich;X-APPLE-RADIUS=500;X-TITLE=Bräuhausstraße 9:geo:13.0258502,47.7961417
END:VEVENT
BEGIN:VEVENT
DTSTART;TZID=UTC:20260510T100000
DTEND;TZID=UTC:20260510T100000
DTSTAMP:20260424T054626
CREATED:20220224T125235Z
LAST-MODIFIED:20251216T100234Z
UID:10000400-1778407200-1778407200@www.brauwelt.at
SUMMARY:Stiegl-Maibaumfest 2026
DESCRIPTION:
URL:https://www.brauwelt.at/event/maibaumfest/
LOCATION:Stiegl Brauwelt\, Bräuhausstraße 9\, Salzburg\, 5020\, Österreich
CATEGORIES:Kulinarik-Highlights,Veranstaltung
ATTACH;FMTTYPE=image/jpeg:https://www.brauwelt.at/wp-content/uploads/2023/03/bild-maibaumfest-2023-qf-mit-badge.jpg
GEO:47.7961417;13.0258502
X-APPLE-STRUCTURED-LOCATION;VALUE=URI;X-ADDRESS=Stiegl Brauwelt Bräuhausstraße 9 Salzburg 5020 Österreich;X-APPLE-RADIUS=500;X-TITLE=Bräuhausstraße 9:geo:13.0258502,47.7961417
END:VEVENT
BEGIN:VEVENT
DTSTART;TZID=UTC:20260513T180000
DTEND;TZID=UTC:20260513T220000
DTSTAMP:20260424T054626
CREATED:20251216T095427Z
LAST-MODIFIED:20260309T060552Z
UID:10001471-1778695200-1778709600@www.brauwelt.at
SUMMARY:Stiegl-Brauwelt Pub Quiz 2026
DESCRIPTION:
URL:https://www.brauwelt.at/event/stiegl-brauwelt-pub-quiz-2026/2026-05-13/
LOCATION:Stiegl Brauwelt\, Bräuhausstraße 9\, Salzburg\, 5020\, Österreich
CATEGORIES:Veranstaltung
ATTACH;FMTTYPE=image/png:https://www.brauwelt.at/wp-content/uploads/2025/02/design-ohne-titel-24.png
GEO:47.7961417;13.0258502
X-APPLE-STRUCTURED-LOCATION;VALUE=URI;X-ADDRESS=Stiegl Brauwelt Bräuhausstraße 9 Salzburg 5020 Österreich;X-APPLE-RADIUS=500;X-TITLE=Bräuhausstraße 9:geo:13.0258502,47.7961417
END:VEVENT
BEGIN:VEVENT
DTSTART;TZID=UTC:20260520T193000
DTEND;TZID=UTC:20260520T223000
DTSTAMP:20260424T054626
CREATED:20251114T144546Z
LAST-MODIFIED:20260301T204519Z
UID:10001498-1779305400-1779316200@www.brauwelt.at
SUMMARY:Tatort in der Stiegl-Brauwelt 2026
DESCRIPTION:
URL:https://www.brauwelt.at/event/tatort-in-der-stiegl-brauwelt-2026/2026-05-20/
LOCATION:Stiegl Brauwelt\, Bräuhausstraße 9\, Salzburg\, 5020\, Österreich
CATEGORIES:Veranstaltung
ATTACH;FMTTYPE=image/jpeg:https://www.brauwelt.at/wp-content/uploads/2022/01/tdc-ehrenreichs-testamentseroffnung-copyr-tdc-1.jpg
GEO:47.7961417;13.0258502
X-APPLE-STRUCTURED-LOCATION;VALUE=URI;X-ADDRESS=Stiegl Brauwelt Bräuhausstraße 9 Salzburg 5020 Österreich;X-APPLE-RADIUS=500;X-TITLE=Bräuhausstraße 9:geo:13.0258502,47.7961417
END:VEVENT
BEGIN:VEVENT
DTSTART;TZID=UTC:20260604T193000
DTEND;TZID=UTC:20260604T223000
DTSTAMP:20260424T054626
CREATED:20251114T144546Z
LAST-MODIFIED:20260301T204519Z
UID:10001461-1780601400-1780612200@www.brauwelt.at
SUMMARY:Tatort in der Stiegl-Brauwelt 2026
DESCRIPTION:
URL:https://www.brauwelt.at/event/tatort-in-der-stiegl-brauwelt-2026/2026-06-04/
LOCATION:Stiegl Brauwelt\, Bräuhausstraße 9\, Salzburg\, 5020\, Österreich
CATEGORIES:Veranstaltung
ATTACH;FMTTYPE=image/jpeg:https://www.brauwelt.at/wp-content/uploads/2022/01/tdc-ehrenreichs-testamentseroffnung-copyr-tdc-1.jpg
GEO:47.7961417;13.0258502
X-APPLE-STRUCTURED-LOCATION;VALUE=URI;X-ADDRESS=Stiegl Brauwelt Bräuhausstraße 9 Salzburg 5020 Österreich;X-APPLE-RADIUS=500;X-TITLE=Bräuhausstraße 9:geo:13.0258502,47.7961417
END:VEVENT
BEGIN:VEVENT
DTSTART;TZID=UTC:20260617T180000
DTEND;TZID=UTC:20260617T220000
DTSTAMP:20260424T054626
CREATED:20251216T095427Z
LAST-MODIFIED:20260309T060552Z
UID:10001472-1781719200-1781733600@www.brauwelt.at
SUMMARY:Stiegl-Brauwelt Pub Quiz 2026
DESCRIPTION:
URL:https://www.brauwelt.at/event/stiegl-brauwelt-pub-quiz-2026/2026-06-17/
LOCATION:Stiegl Brauwelt\, Bräuhausstraße 9\, Salzburg\, 5020\, Österreich
CATEGORIES:Veranstaltung
ATTACH;FMTTYPE=image/png:https://www.brauwelt.at/wp-content/uploads/2025/02/design-ohne-titel-24.png
GEO:47.7961417;13.0258502
X-APPLE-STRUCTURED-LOCATION;VALUE=URI;X-ADDRESS=Stiegl Brauwelt Bräuhausstraße 9 Salzburg 5020 Österreich;X-APPLE-RADIUS=500;X-TITLE=Bräuhausstraße 9:geo:13.0258502,47.7961417
END:VEVENT
BEGIN:VEVENT
DTSTART;TZID=UTC:20260623T193000
DTEND;TZID=UTC:20260623T223000
DTSTAMP:20260424T054626
CREATED:20251114T144546Z
LAST-MODIFIED:20260301T204519Z
UID:10001499-1782243000-1782253800@www.brauwelt.at
SUMMARY:Tatort in der Stiegl-Brauwelt 2026
DESCRIPTION:
URL:https://www.brauwelt.at/event/tatort-in-der-stiegl-brauwelt-2026/2026-06-23/
LOCATION:Stiegl Brauwelt\, Bräuhausstraße 9\, Salzburg\, 5020\, Österreich
CATEGORIES:Veranstaltung
ATTACH;FMTTYPE=image/jpeg:https://www.brauwelt.at/wp-content/uploads/2022/01/tdc-ehrenreichs-testamentseroffnung-copyr-tdc-1.jpg
GEO:47.7961417;13.0258502
X-APPLE-STRUCTURED-LOCATION;VALUE=URI;X-ADDRESS=Stiegl Brauwelt Bräuhausstraße 9 Salzburg 5020 Österreich;X-APPLE-RADIUS=500;X-TITLE=Bräuhausstraße 9:geo:13.0258502,47.7961417
END:VEVENT
BEGIN:VEVENT
DTSTART;TZID=UTC:20260702T193000
DTEND;TZID=UTC:20260702T223000
DTSTAMP:20260424T054626
CREATED:20251114T144546Z
LAST-MODIFIED:20260301T204519Z
UID:10001462-1783020600-1783031400@www.brauwelt.at
SUMMARY:Tatort in der Stiegl-Brauwelt 2026
DESCRIPTION:
URL:https://www.brauwelt.at/event/tatort-in-der-stiegl-brauwelt-2026/2026-07-02/
LOCATION:Stiegl Brauwelt\, Bräuhausstraße 9\, Salzburg\, 5020\, Österreich
CATEGORIES:Veranstaltung
ATTACH;FMTTYPE=image/jpeg:https://www.brauwelt.at/wp-content/uploads/2022/01/tdc-ehrenreichs-testamentseroffnung-copyr-tdc-1.jpg
GEO:47.7961417;13.0258502
X-APPLE-STRUCTURED-LOCATION;VALUE=URI;X-ADDRESS=Stiegl Brauwelt Bräuhausstraße 9 Salzburg 5020 Österreich;X-APPLE-RADIUS=500;X-TITLE=Bräuhausstraße 9:geo:13.0258502,47.7961417
END:VEVENT
BEGIN:VEVENT
DTSTART;TZID=UTC:20260716T180000
DTEND;TZID=UTC:20260716T220000
DTSTAMP:20260424T054626
CREATED:20251216T095427Z
LAST-MODIFIED:20260309T060552Z
UID:10001473-1784224800-1784239200@www.brauwelt.at
SUMMARY:Stiegl-Brauwelt Pub Quiz 2026
DESCRIPTION:
URL:https://www.brauwelt.at/event/stiegl-brauwelt-pub-quiz-2026/2026-07-16/
LOCATION:Stiegl Brauwelt\, Bräuhausstraße 9\, Salzburg\, 5020\, Österreich
CATEGORIES:Veranstaltung
ATTACH;FMTTYPE=image/png:https://www.brauwelt.at/wp-content/uploads/2025/02/design-ohne-titel-24.png
GEO:47.7961417;13.0258502
X-APPLE-STRUCTURED-LOCATION;VALUE=URI;X-ADDRESS=Stiegl Brauwelt Bräuhausstraße 9 Salzburg 5020 Österreich;X-APPLE-RADIUS=500;X-TITLE=Bräuhausstraße 9:geo:13.0258502,47.7961417
END:VEVENT
BEGIN:VEVENT
DTSTART;TZID=UTC:20260722T193000
DTEND;TZID=UTC:20260722T223000
DTSTAMP:20260424T054626
CREATED:20251114T144546Z
LAST-MODIFIED:20260301T204519Z
UID:10001500-1784748600-1784759400@www.brauwelt.at
SUMMARY:Tatort in der Stiegl-Brauwelt 2026
DESCRIPTION:
URL:https://www.brauwelt.at/event/tatort-in-der-stiegl-brauwelt-2026/2026-07-22/
LOCATION:Stiegl Brauwelt\, Bräuhausstraße 9\, Salzburg\, 5020\, Österreich
CATEGORIES:Veranstaltung
ATTACH;FMTTYPE=image/jpeg:https://www.brauwelt.at/wp-content/uploads/2022/01/tdc-ehrenreichs-testamentseroffnung-copyr-tdc-1.jpg
GEO:47.7961417;13.0258502
X-APPLE-STRUCTURED-LOCATION;VALUE=URI;X-ADDRESS=Stiegl Brauwelt Bräuhausstraße 9 Salzburg 5020 Österreich;X-APPLE-RADIUS=500;X-TITLE=Bräuhausstraße 9:geo:13.0258502,47.7961417
END:VEVENT
BEGIN:VEVENT
DTSTART;VALUE=DATE:20260731
DTEND;VALUE=DATE:20260801
DTSTAMP:20260424T054626
CREATED:20250502T081713Z
LAST-MODIFIED:20251216T100526Z
UID:10001387-1785456000-1785542399@www.brauwelt.at
SUMMARY:Stiegl-Sommerfest 2026
DESCRIPTION:
URL:https://www.brauwelt.at/event/stiegl-sommerfest-2026/
LOCATION:Stiegl Brauwelt\, Bräuhausstraße 9\, Salzburg\, 5020\, Österreich
CATEGORIES:Musik,Veranstaltung
ATTACH;FMTTYPE=image/jpeg:https://www.brauwelt.at/wp-content/uploads/2022/02/biergarten1-stiegl-bazzoka-kopie.jpg
GEO:47.7961417;13.0258502
X-APPLE-STRUCTURED-LOCATION;VALUE=URI;X-ADDRESS=Stiegl Brauwelt Bräuhausstraße 9 Salzburg 5020 Österreich;X-APPLE-RADIUS=500;X-TITLE=Bräuhausstraße 9:geo:13.0258502,47.7961417
END:VEVENT
BEGIN:VEVENT
DTSTART;TZID=UTC:20260806T193000
DTEND;TZID=UTC:20260806T223000
DTSTAMP:20260424T054626
CREATED:20251114T144546Z
LAST-MODIFIED:20260301T204519Z
UID:10001463-1786044600-1786055400@www.brauwelt.at
SUMMARY:Tatort in der Stiegl-Brauwelt 2026
DESCRIPTION:
URL:https://www.brauwelt.at/event/tatort-in-der-stiegl-brauwelt-2026/2026-08-06/
LOCATION:Stiegl Brauwelt\, Bräuhausstraße 9\, Salzburg\, 5020\, Österreich
CATEGORIES:Veranstaltung
ATTACH;FMTTYPE=image/jpeg:https://www.brauwelt.at/wp-content/uploads/2022/01/tdc-ehrenreichs-testamentseroffnung-copyr-tdc-1.jpg
GEO:47.7961417;13.0258502
X-APPLE-STRUCTURED-LOCATION;VALUE=URI;X-ADDRESS=Stiegl Brauwelt Bräuhausstraße 9 Salzburg 5020 Österreich;X-APPLE-RADIUS=500;X-TITLE=Bräuhausstraße 9:geo:13.0258502,47.7961417
END:VEVENT
BEGIN:VEVENT
DTSTART;TZID=UTC:20260812T180000
DTEND;TZID=UTC:20260812T220000
DTSTAMP:20260424T054626
CREATED:20251216T095427Z
LAST-MODIFIED:20260309T060552Z
UID:10001474-1786557600-1786572000@www.brauwelt.at
SUMMARY:Stiegl-Brauwelt Pub Quiz 2026
DESCRIPTION:
URL:https://www.brauwelt.at/event/stiegl-brauwelt-pub-quiz-2026/2026-08-12/
LOCATION:Stiegl Brauwelt\, Bräuhausstraße 9\, Salzburg\, 5020\, Österreich
CATEGORIES:Veranstaltung
ATTACH;FMTTYPE=image/png:https://www.brauwelt.at/wp-content/uploads/2025/02/design-ohne-titel-24.png
GEO:47.7961417;13.0258502
X-APPLE-STRUCTURED-LOCATION;VALUE=URI;X-ADDRESS=Stiegl Brauwelt Bräuhausstraße 9 Salzburg 5020 Österreich;X-APPLE-RADIUS=500;X-TITLE=Bräuhausstraße 9:geo:13.0258502,47.7961417
END:VEVENT
BEGIN:VEVENT
DTSTART;TZID=UTC:20260825T193000
DTEND;TZID=UTC:20260825T223000
DTSTAMP:20260424T054626
CREATED:20251114T144546Z
LAST-MODIFIED:20260301T204519Z
UID:10001501-1787686200-1787697000@www.brauwelt.at
SUMMARY:Tatort in der Stiegl-Brauwelt 2026
DESCRIPTION:
URL:https://www.brauwelt.at/event/tatort-in-der-stiegl-brauwelt-2026/2026-08-25/
LOCATION:Stiegl Brauwelt\, Bräuhausstraße 9\, Salzburg\, 5020\, Österreich
CATEGORIES:Veranstaltung
ATTACH;FMTTYPE=image/jpeg:https://www.brauwelt.at/wp-content/uploads/2022/01/tdc-ehrenreichs-testamentseroffnung-copyr-tdc-1.jpg
GEO:47.7961417;13.0258502
X-APPLE-STRUCTURED-LOCATION;VALUE=URI;X-ADDRESS=Stiegl Brauwelt Bräuhausstraße 9 Salzburg 5020 Österreich;X-APPLE-RADIUS=500;X-TITLE=Bräuhausstraße 9:geo:13.0258502,47.7961417
END:VEVENT
BEGIN:VEVENT
DTSTART;TZID=UTC:20260903T193000
DTEND;TZID=UTC:20260903T223000
DTSTAMP:20260424T054626
CREATED:20251114T144546Z
LAST-MODIFIED:20260301T204519Z
UID:10001464-1788463800-1788474600@www.brauwelt.at
SUMMARY:Tatort in der Stiegl-Brauwelt 2026
DESCRIPTION:
URL:https://www.brauwelt.at/event/tatort-in-der-stiegl-brauwelt-2026/2026-09-03/
LOCATION:Stiegl Brauwelt\, Bräuhausstraße 9\, Salzburg\, 5020\, Österreich
CATEGORIES:Veranstaltung
ATTACH;FMTTYPE=image/jpeg:https://www.brauwelt.at/wp-content/uploads/2022/01/tdc-ehrenreichs-testamentseroffnung-copyr-tdc-1.jpg
GEO:47.7961417;13.0258502
X-APPLE-STRUCTURED-LOCATION;VALUE=URI;X-ADDRESS=Stiegl Brauwelt Bräuhausstraße 9 Salzburg 5020 Österreich;X-APPLE-RADIUS=500;X-TITLE=Bräuhausstraße 9:geo:13.0258502,47.7961417
END:VEVENT
BEGIN:VEVENT
DTSTART;TZID=UTC:20260912T210000
DTEND;TZID=UTC:20260913T030000
DTSTAMP:20260424T054626
CREATED:20250220T152838Z
LAST-MODIFIED:20260223T125104Z
UID:10001492-1789246800-1789268400@www.brauwelt.at
SUMMARY:Back to the 90`s - Die Party & Zeitreise in der Stiegl-Brauwelt
DESCRIPTION:
URL:https://www.brauwelt.at/event/back-to-the-90s-party-in-der-stiegl-brauwelt/2026-09-12/
LOCATION:Stiegl Brauwelt\, Bräuhausstraße 9\, Salzburg\, 5020\, Österreich
CATEGORIES:Veranstaltung
ATTACH;FMTTYPE=image/jpeg:https://www.brauwelt.at/wp-content/uploads/2025/02/screenshot-2025-02-20-162302-e1772471545861.jpg
GEO:47.7961417;13.0258502
X-APPLE-STRUCTURED-LOCATION;VALUE=URI;X-ADDRESS=Stiegl Brauwelt Bräuhausstraße 9 Salzburg 5020 Österreich;X-APPLE-RADIUS=500;X-TITLE=Bräuhausstraße 9:geo:13.0258502,47.7961417
END:VEVENT
BEGIN:VEVENT
DTSTART;TZID=UTC:20260917T180000
DTEND;TZID=UTC:20260917T220000
DTSTAMP:20260424T054626
CREATED:20251216T095427Z
LAST-MODIFIED:20260309T060552Z
UID:10001475-1789668000-1789682400@www.brauwelt.at
SUMMARY:Stiegl-Brauwelt Pub Quiz 2026
DESCRIPTION:
URL:https://www.brauwelt.at/event/stiegl-brauwelt-pub-quiz-2026/2026-09-17/
LOCATION:Stiegl Brauwelt\, Bräuhausstraße 9\, Salzburg\, 5020\, Österreich
CATEGORIES:Veranstaltung
ATTACH;FMTTYPE=image/png:https://www.brauwelt.at/wp-content/uploads/2025/02/design-ohne-titel-24.png
GEO:47.7961417;13.0258502
X-APPLE-STRUCTURED-LOCATION;VALUE=URI;X-ADDRESS=Stiegl Brauwelt Bräuhausstraße 9 Salzburg 5020 Österreich;X-APPLE-RADIUS=500;X-TITLE=Bräuhausstraße 9:geo:13.0258502,47.7961417
END:VEVENT
BEGIN:VEVENT
DTSTART;TZID=UTC:20260922T193000
DTEND;TZID=UTC:20260922T223000
DTSTAMP:20260424T054626
CREATED:20251114T144546Z
LAST-MODIFIED:20260301T204519Z
UID:10001502-1790105400-1790116200@www.brauwelt.at
SUMMARY:Tatort in der Stiegl-Brauwelt 2026
DESCRIPTION:
URL:https://www.brauwelt.at/event/tatort-in-der-stiegl-brauwelt-2026/2026-09-22/
LOCATION:Stiegl Brauwelt\, Bräuhausstraße 9\, Salzburg\, 5020\, Österreich
CATEGORIES:Veranstaltung
ATTACH;FMTTYPE=image/jpeg:https://www.brauwelt.at/wp-content/uploads/2022/01/tdc-ehrenreichs-testamentseroffnung-copyr-tdc-1.jpg
GEO:47.7961417;13.0258502
X-APPLE-STRUCTURED-LOCATION;VALUE=URI;X-ADDRESS=Stiegl Brauwelt Bräuhausstraße 9 Salzburg 5020 Österreich;X-APPLE-RADIUS=500;X-TITLE=Bräuhausstraße 9:geo:13.0258502,47.7961417
END:VEVENT
BEGIN:VEVENT
DTSTART;TZID=UTC:20261001T193000
DTEND;TZID=UTC:20261001T223000
DTSTAMP:20260424T054626
CREATED:20251114T144546Z
LAST-MODIFIED:20260301T204519Z
UID:10001466-1790883000-1790893800@www.brauwelt.at
SUMMARY:Tatort in der Stiegl-Brauwelt 2026
DESCRIPTION:
URL:https://www.brauwelt.at/event/tatort-in-der-stiegl-brauwelt-2026/2026-10-01/
LOCATION:Stiegl Brauwelt\, Bräuhausstraße 9\, Salzburg\, 5020\, Österreich
CATEGORIES:Veranstaltung
ATTACH;FMTTYPE=image/jpeg:https://www.brauwelt.at/wp-content/uploads/2022/01/tdc-ehrenreichs-testamentseroffnung-copyr-tdc-1.jpg
GEO:47.7961417;13.0258502
X-APPLE-STRUCTURED-LOCATION;VALUE=URI;X-ADDRESS=Stiegl Brauwelt Bräuhausstraße 9 Salzburg 5020 Österreich;X-APPLE-RADIUS=500;X-TITLE=Bräuhausstraße 9:geo:13.0258502,47.7961417
END:VEVENT
BEGIN:VEVENT
DTSTART;TZID=UTC:20261014T180000
DTEND;TZID=UTC:20261014T220000
DTSTAMP:20260424T054626
CREATED:20251216T095427Z
LAST-MODIFIED:20260309T060552Z
UID:10001476-1792000800-1792015200@www.brauwelt.at
SUMMARY:Stiegl-Brauwelt Pub Quiz 2026
DESCRIPTION:
URL:https://www.brauwelt.at/event/stiegl-brauwelt-pub-quiz-2026/2026-10-14/
LOCATION:Stiegl Brauwelt\, Bräuhausstraße 9\, Salzburg\, 5020\, Österreich
CATEGORIES:Veranstaltung
ATTACH;FMTTYPE=image/png:https://www.brauwelt.at/wp-content/uploads/2025/02/design-ohne-titel-24.png
GEO:47.7961417;13.0258502
X-APPLE-STRUCTURED-LOCATION;VALUE=URI;X-ADDRESS=Stiegl Brauwelt Bräuhausstraße 9 Salzburg 5020 Österreich;X-APPLE-RADIUS=500;X-TITLE=Bräuhausstraße 9:geo:13.0258502,47.7961417
END:VEVENT
BEGIN:VEVENT
DTSTART;TZID=UTC:20261015T193000
DTEND;TZID=UTC:20261015T223000
DTSTAMP:20260424T054626
CREATED:20251114T144546Z
LAST-MODIFIED:20260301T204519Z
UID:10001484-1792092600-1792103400@www.brauwelt.at
SUMMARY:Tatort in der Stiegl-Brauwelt 2026
DESCRIPTION:
URL:https://www.brauwelt.at/event/tatort-in-der-stiegl-brauwelt-2026/2026-10-15/
LOCATION:Stiegl Brauwelt\, Bräuhausstraße 9\, Salzburg\, 5020\, Österreich
CATEGORIES:Veranstaltung
ATTACH;FMTTYPE=image/jpeg:https://www.brauwelt.at/wp-content/uploads/2022/01/tdc-ehrenreichs-testamentseroffnung-copyr-tdc-1.jpg
GEO:47.7961417;13.0258502
X-APPLE-STRUCTURED-LOCATION;VALUE=URI;X-ADDRESS=Stiegl Brauwelt Bräuhausstraße 9 Salzburg 5020 Österreich;X-APPLE-RADIUS=500;X-TITLE=Bräuhausstraße 9:geo:13.0258502,47.7961417
END:VEVENT
BEGIN:VEVENT
DTSTART;TZID=UTC:20261021T193000
DTEND;TZID=UTC:20261021T223000
DTSTAMP:20260424T054626
CREATED:20251114T144546Z
LAST-MODIFIED:20260301T204519Z
UID:10001503-1792611000-1792621800@www.brauwelt.at
SUMMARY:Tatort in der Stiegl-Brauwelt 2026
DESCRIPTION:
URL:https://www.brauwelt.at/event/tatort-in-der-stiegl-brauwelt-2026/2026-10-21/
LOCATION:Stiegl Brauwelt\, Bräuhausstraße 9\, Salzburg\, 5020\, Österreich
CATEGORIES:Veranstaltung
ATTACH;FMTTYPE=image/jpeg:https://www.brauwelt.at/wp-content/uploads/2022/01/tdc-ehrenreichs-testamentseroffnung-copyr-tdc-1.jpg
GEO:47.7961417;13.0258502
X-APPLE-STRUCTURED-LOCATION;VALUE=URI;X-ADDRESS=Stiegl Brauwelt Bräuhausstraße 9 Salzburg 5020 Österreich;X-APPLE-RADIUS=500;X-TITLE=Bräuhausstraße 9:geo:13.0258502,47.7961417
END:VEVENT
BEGIN:VEVENT
DTSTART;TZID=UTC:20261025T210000
DTEND;TZID=UTC:20261026T030000
DTSTAMP:20260424T054626
CREATED:20250806T074832Z
LAST-MODIFIED:20260408T072137Z
UID:10001488-1792962000-1792983600@www.brauwelt.at
SUMMARY:Ü30 Party in der Stiegl-Brauwelt
DESCRIPTION:
URL:https://www.brauwelt.at/event/ue30-party-in-der-stiegl-brauwelt/2026-10-25/
LOCATION:Stiegl Brauwelt\, Bräuhausstraße 9\, Salzburg\, 5020\, Österreich
CATEGORIES:Musik,Veranstaltung
ATTACH;FMTTYPE=image/jpeg:https://www.brauwelt.at/wp-content/uploads/2025/08/design-ohne-titel-3.jpg
GEO:47.7961417;13.0258502
X-APPLE-STRUCTURED-LOCATION;VALUE=URI;X-ADDRESS=Stiegl Brauwelt Bräuhausstraße 9 Salzburg 5020 Österreich;X-APPLE-RADIUS=500;X-TITLE=Bräuhausstraße 9:geo:13.0258502,47.7961417
END:VEVENT
BEGIN:VEVENT
DTSTART;TZID=UTC:20261031T210000
DTEND;TZID=UTC:20261101T020000
DTSTAMP:20260424T054626
CREATED:20220224T123158Z
LAST-MODIFIED:20251216T094541Z
UID:10000401-1793480400-1793498400@www.brauwelt.at
SUMMARY:Halloween - We love the 90s!
DESCRIPTION:
URL:https://www.brauwelt.at/event/halloween/
LOCATION:Stiegl Brauwelt\, Bräuhausstraße 9\, Salzburg\, 5020\, Österreich
CATEGORIES:Veranstaltung
ATTACH;FMTTYPE=image/png:https://www.brauwelt.at/wp-content/uploads/2024/10/halloween-336x207-1.png
GEO:47.7961417;13.0258502
X-APPLE-STRUCTURED-LOCATION;VALUE=URI;X-ADDRESS=Stiegl Brauwelt Bräuhausstraße 9 Salzburg 5020 Österreich;X-APPLE-RADIUS=500;X-TITLE=Bräuhausstraße 9:geo:13.0258502,47.7961417
END:VEVENT
BEGIN:VEVENT
DTSTART;TZID=UTC:20261105T193000
DTEND;TZID=UTC:20261105T223000
DTSTAMP:20260424T054626
CREATED:20251114T144546Z
LAST-MODIFIED:20260301T204519Z
UID:10001467-1793907000-1793917800@www.brauwelt.at
SUMMARY:Tatort in der Stiegl-Brauwelt 2026
DESCRIPTION:
URL:https://www.brauwelt.at/event/tatort-in-der-stiegl-brauwelt-2026/2026-11-05/
LOCATION:Stiegl Brauwelt\, Bräuhausstraße 9\, Salzburg\, 5020\, Österreich
CATEGORIES:Veranstaltung
ATTACH;FMTTYPE=image/jpeg:https://www.brauwelt.at/wp-content/uploads/2022/01/tdc-ehrenreichs-testamentseroffnung-copyr-tdc-1.jpg
GEO:47.7961417;13.0258502
X-APPLE-STRUCTURED-LOCATION;VALUE=URI;X-ADDRESS=Stiegl Brauwelt Bräuhausstraße 9 Salzburg 5020 Österreich;X-APPLE-RADIUS=500;X-TITLE=Bräuhausstraße 9:geo:13.0258502,47.7961417
END:VEVENT
BEGIN:VEVENT
DTSTART;TZID=UTC:20261106T120000
DTEND;TZID=UTC:20261111T220000
DTSTAMP:20260424T054626
CREATED:20220222T161521Z
LAST-MODIFIED:20251216T093948Z
UID:10000405-1793966400-1794434400@www.brauwelt.at
SUMMARY:Traditionelles Gans'l-Essen 2026
DESCRIPTION:
URL:https://www.brauwelt.at/event/stiegl-gansl/
LOCATION:Stiegl Brauwelt\, Bräuhausstraße 9\, Salzburg\, 5020\, Österreich
CATEGORIES:Kulinarik-Highlights
ATTACH;FMTTYPE=image/jpeg:https://www.brauwelt.at/wp-content/uploads/2022/02/gansl1-bildnachweis-stiegl.jpg
GEO:47.7961417;13.0258502
X-APPLE-STRUCTURED-LOCATION;VALUE=URI;X-ADDRESS=Stiegl Brauwelt Bräuhausstraße 9 Salzburg 5020 Österreich;X-APPLE-RADIUS=500;X-TITLE=Bräuhausstraße 9:geo:13.0258502,47.7961417
END:VEVENT
BEGIN:VEVENT
DTSTART;TZID=UTC:20261112T193000
DTEND;TZID=UTC:20261112T223000
DTSTAMP:20260424T054626
CREATED:20251114T144546Z
LAST-MODIFIED:20260301T204519Z
UID:10001485-1794511800-1794522600@www.brauwelt.at
SUMMARY:Tatort in der Stiegl-Brauwelt 2026
DESCRIPTION:
URL:https://www.brauwelt.at/event/tatort-in-der-stiegl-brauwelt-2026/2026-11-12/
LOCATION:Stiegl Brauwelt\, Bräuhausstraße 9\, Salzburg\, 5020\, Österreich
CATEGORIES:Veranstaltung
ATTACH;FMTTYPE=image/jpeg:https://www.brauwelt.at/wp-content/uploads/2022/01/tdc-ehrenreichs-testamentseroffnung-copyr-tdc-1.jpg
GEO:47.7961417;13.0258502
X-APPLE-STRUCTURED-LOCATION;VALUE=URI;X-ADDRESS=Stiegl Brauwelt Bräuhausstraße 9 Salzburg 5020 Österreich;X-APPLE-RADIUS=500;X-TITLE=Bräuhausstraße 9:geo:13.0258502,47.7961417
END:VEVENT
BEGIN:VEVENT
DTSTART;TZID=UTC:20261114T180000
DTEND;TZID=UTC:20261114T233000
DTSTAMP:20260424T054626
CREATED:20250919T210808Z
LAST-MODIFIED:20251216T093836Z
UID:10001401-1794679200-1794699000@www.brauwelt.at
SUMMARY:Stiegl-Gstanzl-Rap-Battle 2026
DESCRIPTION:
URL:https://www.brauwelt.at/event/gstanzl-rap-battle/
LOCATION:Stiegl Brauwelt\, Bräuhausstraße 9\, Salzburg\, 5020\, Österreich
CATEGORIES:Kulinarik-Highlights,Veranstaltung
ATTACH;FMTTYPE=image/jpeg:https://www.brauwelt.at/wp-content/uploads/2025/09/design-ohne-titel-1.jpg
GEO:47.7961417;13.0258502
X-APPLE-STRUCTURED-LOCATION;VALUE=URI;X-ADDRESS=Stiegl Brauwelt Bräuhausstraße 9 Salzburg 5020 Österreich;X-APPLE-RADIUS=500;X-TITLE=Bräuhausstraße 9:geo:13.0258502,47.7961417
END:VEVENT
BEGIN:VEVENT
DTSTART;TZID=UTC:20261118T180000
DTEND;TZID=UTC:20261118T220000
DTSTAMP:20260424T054626
CREATED:20251216T095427Z
LAST-MODIFIED:20260309T060552Z
UID:10001505-1795024800-1795039200@www.brauwelt.at
SUMMARY:Stiegl-Brauwelt Pub Quiz 2026
DESCRIPTION:
URL:https://www.brauwelt.at/event/stiegl-brauwelt-pub-quiz-2026/2026-11-18/
LOCATION:Stiegl Brauwelt\, Bräuhausstraße 9\, Salzburg\, 5020\, Österreich
CATEGORIES:Veranstaltung
ATTACH;FMTTYPE=image/png:https://www.brauwelt.at/wp-content/uploads/2025/02/design-ohne-titel-24.png
GEO:47.7961417;13.0258502
X-APPLE-STRUCTURED-LOCATION;VALUE=URI;X-ADDRESS=Stiegl Brauwelt Bräuhausstraße 9 Salzburg 5020 Österreich;X-APPLE-RADIUS=500;X-TITLE=Bräuhausstraße 9:geo:13.0258502,47.7961417
END:VEVENT
END:VCALENDAR